BEGIN:VCALENDAR
VERSION:2.0
PRODID:-//ANADIMM - ECPv4.6.26.2//NONSGML v1.0//EN
CALSCALE:GREGORIAN
METHOD:PUBLISH
X-WR-CALNAME:ANADIMM
X-ORIGINAL-URL:https://anadimm.it
X-WR-CALDESC:Eventi per ANADIMM
BEGIN:VEVENT
DTSTART;TZID=Europe/Rome:20260511T151500
DTEND;TZID=Europe/Rome:20260511T183000
DTSTAMP:20260422T141456
CREATED:20260422T105035Z
LAST-MODIFIED:20260422T110055Z
UID:1563-1778512500-1778524200@anadimm.it
SUMMARY:Appalti pubblici: conflitto o composizione?
DESCRIPTION:LOCANDINA-11-MAGGIO-DEF\nFacebookTwitterWhatsAppGoogle+LinkedInPin It
URL:https://anadimm.it/evento/appalti-pubblici-conflitto-o-composizione/
LOCATION:Fondazione Lercaro – Aula Magna\, Via Riva Reno 55\, Bologna\, BO\, 40121\, Italy
GEO:44.4987093;11.3373556
X-APPLE-STRUCTURED-LOCATION;VALUE=URI;X-ADDRESS=Fondazione Lercaro – Aula Magna Via Riva Reno 55 Bologna BO 40121 Italy;X-APPLE-RADIUS=500;X-TITLE=Via Riva Reno 55:geo:11.3373556,44.4987093
CATEGORIES:Incontri
ATTACH;FMTTYPE=image/jpeg:https://anadimm.it/wp-content/uploads/2026/02/lercaroaulamagna.jpg
END:VEVENT
END:VCALENDAR