BEGIN:VCALENDAR
VERSION:2.0
PRODID:-//ANADIMM - ECPv4.6.26.2//NONSGML v1.0//EN
CALSCALE:GREGORIAN
METHOD:PUBLISH
X-WR-CALNAME:ANADIMM
X-ORIGINAL-URL:https://anadimm.it
X-WR-CALDESC:Eventi per ANADIMM
BEGIN:VEVENT
DTSTART;TZID=Europe/Rome:20210126T140000
DTEND;TZID=Europe/Rome:20220329T160000
DTSTAMP:20260421T142014
CREATED:20240604T102549Z
LAST-MODIFIED:20240604T102549Z
UID:1188-1611669600-1648569600@anadimm.it
SUMMARY:Michele Cuccaro: Gli acquisti mortis causa nel sistema tavolare - Gabriele a Beccara: L'opponibilità dell'usucapione al terzo acquirente sulla fede del libro fondiario
DESCRIPTION:breviincontro260121\nFacebookTwitterWhatsAppGoogle+LinkedInPin It
URL:https://anadimm.it/evento/michele-cuccaro-gli-acquisti-mortis-causa-nel-sistema-tavolare-gabriele-a-beccara-lopponibilita-dellusucapione-al-terzo-acquirente-sulla-fede-del-libro-fondiario/
LOCATION:ZOOM WEBINAR\, Italia
CATEGORIES:Incontri,Webinar
ATTACH;FMTTYPE=image/jpeg:https://anadimm.it/wp-content/uploads/2020/10/121243932_l-1100x.jpg
END:VEVENT
END:VCALENDAR