BEGIN:VCALENDAR
VERSION:2.0
PRODID:-//ANADIMM - ECPv4.6.26.2//NONSGML v1.0//EN
CALSCALE:GREGORIAN
METHOD:PUBLISH
X-WR-CALNAME:ANADIMM
X-ORIGINAL-URL:https://anadimm.it
X-WR-CALDESC:Eventi per ANADIMM
BEGIN:VEVENT
DTSTART;TZID=Europe/Rome:20201211T141500
DTEND;TZID=Europe/Rome:20201211T183000
DTSTAMP:20260422T174158
CREATED:20201117T163827Z
LAST-MODIFIED:20201117T163827Z
UID:723-1607696100-1607711400@anadimm.it
SUMMARY:WEBINAR - Super Bonus al 110%
DESCRIPTION:“Si allega il programma del primo incontro organizzato\, con il raggruppamento delle sigle professionali interessate all’argomento\, sul Superbonus del 110% in videoconferenza da Pordenone venerdì  11 dicembre 2020. \nAbbiamo inteso\, in questa prima occasione\, tentare un approccio complessivo alla materia. \nCiò per dare un’informazione di massima alla vasta platea di interessati\, siano essi professionisti od operatori del settore\,  siano le persone che utilizzeranno l’opportunità. \nSi è riservato\, alle future occasioni di incontro\, l’approfondimento dei singoli aspetti. \nIl beneficio di cui trattiamo\, infatti\, mira a perseguire la finalità del risparmio energetico. \nMira tuttavia\, altresì ed in modo importante\, a realizzare una opportunità di rilancio del settore immobiliare\, trainante per l’economia nazionale\, fortemente compromesso dall’emergenza sanitaria. \nGli argomenti da considerare\, per approfondire la conoscenza della materia\, sono diversi: quello edilizio ed impiantistico\, quello fiscale\, quello finanziario\, quello giuridico ed altro. \nOgnuno di questi aspetti\, apre una serie veramente numerosa di quesiti interpretativi\, da valutarsi caso per caso\,  con riferimento alle specifiche ipotesi considerate. \nCercheremo\, nei limiti del possibile\, di dare risposta a queste richieste dell’utenza. \nFaremo ciò\, come detto\, nelle future occasioni di incontro\, laddove il tutto risulterà più facilmente comprensibile avendo avuto una prima\, ancorchè sommaria\, esposizione della materia. \nAnticipiamo\, quindi e sin d’ora\, che nelle prossime occasioni\, inviteremo gli esponenti e rappresentanti dei costruttori ed impiantisti\, del sistema bancario e dell’Agenzia delle Entrate\, come parti attraverso le quali perseguire l’utilizzo del beneficio. \nLe modalità di iscrizione sono indicate nell’allegata locandina.” \n                                                                                   – avv. Ladislao Kowalski –  \nPieghevole-Ecobonus-11-12-20\nFacebookTwitterWhatsAppGoogle+LinkedInPin It
URL:https://anadimm.it/evento/webinar-super-bonus-al-110/
LOCATION:ZOOM WEBINAR\, Italia
CATEGORIES:Webinar
ATTACH;FMTTYPE=image/jpeg:https://anadimm.it/wp-content/uploads/2020/10/121243932_l-1100x.jpg
END:VEVENT
END:VCALENDAR